{"text_format":"1","workbook":"xlsx","n_sheets":6,"sheets":["施設情報","化学","尿一般","血液","参加施設2022","集計用"],"not_rendered":{"charts":0,"images":0,"macros":1,"external_links":0,"defined_names":7,"comments":3,"pivot_tables":0},"unopened":[],"bounds":{"document_bytes":16777216,"sheet_cells":100000,"rows_first":2000,"rows_last":500,"rows_between":2000,"halvings":0,"cell_chars":16384,"cell_head_chars":4096},"cells_cut":0,"cells_raw":0,"read":"whole","date_system":"1900"}

{"sheet":"施設情報","index":0,"n_rows":16,"n_cols":10,"rows_kept":16,"cut":false,"hidden":false,"merged":[[1,2,1,4],[8,0,8,1],[4,0,4,1],[3,0,3,1],[2,0,2,1],[8,2,8,8],[7,6,7,8],[6,6,6,8],[5,6,5,8],[2,2,2,4],[7,2,7,4],[6,2,6,4],[5,2,5,4]]}
["必ず「注意事項」，「コード表」をご確認下さい．"]
[null,null,{"$f":"IF(ISERROR(C4),\"施設番号誤入力です\",\"\")","v":""}]
["施設番号",null,null,null,null,"参加部門",{"$f":"IF(C3=\"\",\"\",IF(VLOOKUP(C3,参加施設2022!C:L,6,FALSE)=0,\"\",VLOOKUP(C3,参加施設2022!C:L,6,FALSE)))","v":""},{"$f":"IF(C3=\"\",\"\",IF(VLOOKUP(C3,参加施設2022!C:L,7,FALSE)=0,\"\",VLOOKUP(C3,参加施設2022!C:L,7,FALSE)))","v":""},{"$f":"IF(C3=\"\",\"\",IF(VLOOKUP(C3,参加施設2022!C:L,8,FALSE)=0,\"\",VLOOKUP(C3,参加施設2022!C:L,8,FALSE)))","v":""}]
["施設名",null,{"$f":"IF(C3=\"\",\"\",IF(VLOOKUP(C3,参加施設2022!C:L,4,FALSE)=0,\"\",VLOOKUP(C3,参加施設2022!C:L,4,FALSE)))","v":""}]
["電話番号",null,{"$f":"IF(C3=\"\",\"\",IF(VLOOKUP(C3,参加施設2022!C:L,10,FALSE)=0,\"\",VLOOKUP(C3,参加施設2022!C:L,10,FALSE)))","v":""}]
[null,"生化学",null,null,null,"職種",null,null,null,{"$f":"IF(ISERROR(IF(G3=\"\",\"\",IF(AND(NOT(G3=\"\"),C6=\"\",G6=\"\"),\"担当者・職種を入力して下さい\",IF(AND(NOT(G3=\"\"),NOT(C6=\"\"),G6=\"\"),\"職種 を入力して下さい\",IF(G3=\"\",\"\",IF(AND(NOT(G3=\"\"),C6=\"\",NOT(G6=\"\")),\"担当者 を入力して下さい\",IF(AND(NOT(G3=\"\"),NOT(C6=\"\"),NOT(G6=\"\")),\"\",\"\"))))))),\"\",IF(G3=\"\",\"\",IF(AND(NOT(G3=\"\"),C6=\"\",G6=\"\"),\"担当者・職種を入力して下さい\",IF(AND(NOT(G3=\"\"),NOT(C6=\"\"),G6=\"\"),\"職種 を入力して下さい\",IF(G3=\"\",\"\",IF(AND(NOT(G3=\"\"),C6=\"\",NOT(G6=\"\")),\"担当者 を入力して下さい\",IF(AND(NOT(G3=\"\"),NOT(C6=\"\"),NOT(G6=\"\")),\"\",\"\")))))))","v":""}]
["担当者名","尿一般",null,null,null,"職種",null,null,null,{"$f":"IF(ISERROR(IF(H3=\"\",\"\",IF(AND(NOT(H3=\"\"),C7=\"\",G7=\"\"),\"担当者・職種を入力して下さい\",IF(AND(NOT(H3=\"\"),NOT(C7=\"\"),G7=\"\"),\"職種を入力して下さい\",IF(H3=\"\",\"\",IF(AND(NOT(H3=\"\"),C7=\"\",NOT(G7=\"\")),\"担当者を入力して下さい\",IF(AND(NOT(H3=\"\"),NOT(C7=\"\"),NOT(G7=\"\")),\"\",\"\"))))))),\"\",IF(H3=\"\",\"\",IF(AND(NOT(H3=\"\"),C7=\"\",G7=\"\"),\"担当者・職種を入力して下さい\",IF(AND(NOT(H3=\"\"),NOT(C7=\"\"),G7=\"\"),\"職種を入力して下さい\",IF(H3=\"\",\"\",IF(AND(NOT(H3=\"\"),C7=\"\",NOT(G7=\"\")),\"担当者を入力して下さい\",IF(AND(NOT(H3=\"\"),NOT(C7=\"\"),NOT(G7=\"\")),\"\",\"\")))))))","v":""}]
[null,"血　 液",null,null,null,"職種",null,null,null,{"$f":"IF(ISERROR(IF(I3=\"\",\"\",IF(AND(NOT(I3=\"\"),C8=\"\",G8=\"\"),\"担当者・職種を入力して下さい\",IF(AND(NOT(I3=\"\"),NOT(C8=\"\"),G8=\"\"),\"職種を入力して下さい\",IF(I3=\"\",\"\",IF(AND(NOT(I3=\"\"),C8=\"\",NOT(G8=\"\")),\"担当者を入力して下さい\",IF(I3=\"\",\"\",IF(AND(NOT(I3=\"\"),NOT(C8=\"\"),NOT(G8=\"\")),\"\",\"\")))))))),\"\",IF(I3=\"\",\"\",IF(AND(NOT(I3=\"\"),C8=\"\",G8=\"\"),\"担当者・職種を入力して下さい\",IF(AND(NOT(I3=\"\"),NOT(C8=\"\"),G8=\"\"),\"職種を入力して下さい\",IF(I3=\"\",\"\",IF(AND(NOT(I3=\"\"),C8=\"\",NOT(G8=\"\")),\"担当者を入力して下さい\",IF(I3=\"\",\"\",IF(AND(NOT(I3=\"\"),NOT(C8=\"\"),NOT(G8=\"\")),\"\",\"\"))))))))","v":""}]
["測定日"]
["担当者および職種は必須入力です"]
["未入力の場合、結果入力されても保存できませんのでご注意願います"]
[]
[{"$f":"IF(COUNTIF(B14:F16,\"ERROR\")>0,\"ERROR\",\"\")","v":""},"←ここが「ERROR」だと保存できない"]
["生化学",{"$f":"IF(AND(NOT(G3=\"\"),AND(C6=\"\",G6=\"\"),COUNTA(化学!I7:J26)>0),\"ERROR\",\"\")","v":""},{"$f":"IF(AND(NOT(G3=\"\"),AND(NOT(C6=\"\"),G6=\"\"),COUNTA(化学!I7:J26)>0),\"ERROR\",\"\")","v":""},{"$f":"IF(AND(NOT(G3=\"\"),AND(C6=\"\",NOT(G6=\"\")),COUNTA(化学!I7:J26)>0),\"ERROR\",\"\")","v":""},{"$f":"IF(AND(NOT(G3=\"\"),AND(NOT(C6=\"\"),G6=\"\"),COUNTA(化学!I7:J26)=0),\"ERROR\",\"\")","v":""},{"$f":"IF(AND(NOT(G3=\"\"),AND(C6=\"\",NOT(G6=\"\")),COUNTA(化学!I7:J26)=0),\"ERROR\",\"\")","v":""},{"$f":"IF(OR(AND(NOT(G3=\"\"),AND(C6=\"\",G6=\"\"),COUNTA(化学!I7:J26)>0),AND(NOT(G3=\"\"),AND(NOT(C6=\"\"),G6=\"\"),COUNTA(化学!I7:J26)>0),AND(NOT(G3=\"\"),AND(C6=\"\",NOT(G6=\"\")),COUNTA(化学!I7:J26)>0),AND(NOT(G3=\"\"),AND(NOT(C6=\"\"),G6=\"\"),COUNTA(化学!I7:J26)=0),AND(NOT(G3=\"\"),AND(C6=\"\",NOT(G6=\"\")),COUNTA(化学!I7:J26)=0)),\"ERROR\",\"\")","v":""}]
["尿一般",{"$f":"IF(AND(NOT(H3=\"\"),AND(C7=\"\",G7=\"\"),COUNTA(尿一般!B7:Q7)>0),\"ERROR\",\"\")","v":""},{"$f":"IF(AND(NOT(H3=\"\"),AND(NOT(C7=\"\"),G7=\"\"),COUNTA(尿一般!B7:Q7)>0),\"ERROR\",\"\")","v":""},{"$f":"IF(AND(NOT(H3=\"\"),AND(C7=\"\",NOT(G7=\"\")),COUNTA(尿一般!B7:Q7)>0),\"ERROR\",\"\")","v":""},{"$f":"IF(AND(NOT(H3=\"\"),AND(NOT(C7=\"\"),G7=\"\"),COUNTA(尿一般!B7:Q7)=0),\"ERROR\",\"\")","v":""},{"$f":"IF(AND(NOT(H3=\"\"),AND(C7=\"\",NOT(G7=\"\")),COUNTA(尿一般!B7:Q7)=0),\"ERROR\",\"\")","v":""},{"$f":"IF(OR(AND(NOT(H3=\"\"),AND(C7=\"\",G7=\"\"),COUNTA(尿一般!B7:Q7)>0),AND(NOT(H3=\"\"),AND(NOT(C7=\"\"),G7=\"\"),COUNTA(尿一般!B7:Q7)>0),AND(NOT(H3=\"\"),AND(NOT(C7=\"\"),G7=\"\"),COUNTA(尿一般!B7:Q7)>0),AND(NOT(H3=\"\"),AND(C7=\"\",NOT(G7=\"\")),COUNTA(尿一般!B7:Q7)>0),AND(NOT(H3=\"\"),AND(C7=\"\",NOT(G7=\"\")),COUNTA(尿一般!B7:Q7)=0)),\"ERROR\",\"\")","v":""}]
["血　 液",{"$f":"IF(AND(NOT(I3=\"\"),AND(C8=\"\",G8=\"\"),COUNTA(血液!G7:H11)>0),\"ERROR\",\"\")","v":""},{"$f":"IF(AND(NOT(I3=\"\"),AND(NOT(C8=\"\"),G8=\"\"),COUNTA(血液!G7:H11)>0),\"ERROR\",\"\")","v":""},{"$f":"IF(AND(NOT(I3=\"\"),AND(C8=\"\",NOT(G8=\"\")),COUNTA(血液!G7:H11)>0),\"ERROR\",\"\")","v":""},{"$f":"IF(AND(NOT(I3=\"\"),AND(NOT(C8=\"\"),G8=\"\"),COUNTA(血液!G7:H11)=0),\"ERROR\",\"\")","v":""},{"$f":"IF(AND(NOT(I3=\"\"),AND(C8=\"\",NOT(G8=\"\")),COUNTA(血液!G7:H11)=0),\"ERROR\",\"\")","v":""},{"$f":"IF(OR(AND(NOT(I3=\"\"),AND(C8=\"\",G8=\"\"),COUNTA(血液!G7:H11)>0),AND(NOT(I3=\"\"),AND(NOT(C8=\"\"),G8=\"\"),COUNTA(血液!G7:H11)>0),AND(NOT(I3=\"\"),AND(C8=\"\",NOT(G8=\"\")),COUNTA(血液!G7:H11)>0),AND(NOT(I3=\"\"),AND(NOT(C8=\"\"),G8=\"\"),COUNTA(血液!G7:H11)=0),AND(NOT(I3=\"\"),AND(C8=\"\",NOT(G8=\"\")),COUNTA(血液!G7:H11)=0)),\"ERROR\",\"\")","v":""}]

{"sheet":"化学","index":1,"n_rows":35,"n_cols":12,"rows_kept":35,"cut":false,"hidden":false,"merged":[[29,1,29,11],[30,1,30,11],[31,1,31,11],[33,1,33,11],[34,1,34,11],[28,1,28,11],[4,0,5,0],[4,1,5,1],[4,2,5,2],[4,3,5,3],[4,4,5,4],[4,10,5,10],[4,11,5,11],[4,7,5,7],[1,2,1,3],[4,5,4,6],[4,8,4,9],[26,1,26,11],[27,0,27,11]]}
["１．生化学",null,null,"必ず「注意事項」，「コード表」をご確認下さい．"]
[]
[{"$f":"IF(施設情報!$C$3=\"\",\"\",施設情報!$C$3)","v":""}]
[{"$f":"施設情報!C4","v":""}]
[null,"項目","測定方法","機器","試薬","基準範囲",null,"JCCLS共用基準範囲","測定結果",null,"報告単位","報告桁数"]
[null,null,null,null,null,"下限","上限",null,"試料 1","試料 2"]
[1,"AST",null,null,null,null,null,null,null,null,"U/L","整数"]
[2,"ALT",null,null,null,null,null,null,null,null,"U/L","整数"]
[3,"LD",null,null,null,null,null,null,null,null,"U/L","整数"]
[4,"ALP",null,null,null,null,null,null,null,null,"U/L","整数"]
[5,"AMY",null,null,null,null,null,null,null,null,"U/L","整数"]
[6,"γ-GT",null,null,null,null,null,null,null,null,"U/L","整数"]
[7,"TB",null,null,null,null,null,null,null,null,"mg/dL","少数点以下1桁"]
[8,"TP",null,null,null,null,null,null,null,null,"g/dL","少数点以下1桁"]
[9,"BUN",null,null,null,null,null,null,null,null,"mg/dL","少数点以下1桁"]
[10,"UA",null,null,null,null,null,null,null,null,"mg/dL","少数点以下1桁"]
[11,"CRE",null,null,null,null,null,null,null,null,"mg/dL","少数点以下2桁"]
[12,"T-CH",null,null,null,null,null,null,null,null,"mg/dL","整数"]
[13,"TG",null,null,null,null,null,null,null,null,"mg/dL","整数"]
[14,"HDL-C",null,null,null,null,null,null,null,null,"mg/dL","整数"]
[15,"GLU",null,null,null,null,null,null,null,null,"mg/dL","整数"]
[16,"CRP",null,null,null,null,null,null,null,null,"mg/dL","少数点以下2桁"]
[17,"Na",null,null,null,null,null,null,null,null,"mmol/L","整数"]
[18,"K",null,null,null,null,null,null,null,null,"mmol/L","少数点以下1桁"]
[19,"CL",null,null,null,null,null,null,null,null,"mmol/L","整数"]
[20,"Ca",null,null,null,null,null,null,null,null,"mg/dL","少数点以下1桁"]
["備考"]
["ご注意　"]
[null,"測定単位，報告桁数は変更しないで下さい"]
[null,"測定を行っていない項目の欄は空白にして下さい"]
[null,"男女別の基準範囲を設定している場合は男性の基準範囲を入力して下さい"]
[null,"基準範囲が○○以上の場合は上限値を空白にして下さい"]
[null,"実数値で入力してください．0.3以下，＜0.5等の成績は評価対象外とします"]
[null,"DC法の測定試薬は専用試薬（88）を選択して下さい"]
[null,"Na，K，CLの測定試薬は専用試薬（88）を選択して下さい"]

{"sheet":"尿一般","index":2,"n_rows":12,"n_cols":17,"rows_kept":12,"cut":false,"hidden":false,"merged":[[4,8,4,10],[4,11,4,13],[4,14,4,16],[10,0,10,16],[11,1,11,16],[5,0,6,0],[7,3,7,4],[7,6,7,7],[7,9,7,10],[7,12,7,13],[7,15,7,16],[8,0,9,0],[8,1,9,16],[2,0,2,4],[3,0,3,4],[4,0,4,1],[4,2,4,4],[4,5,4,7]]}
["２．尿一般",null,null,"必ず「注意事項」，「コード表」をご確認下さい．"]
[]
[{"$f":"IF(施設情報!$C$3=\"\",\"\",施設情報!$C$3)","v":""}]
[{"$f":"施設情報!C4","v":""}]
["項目",null,"ケトン体",null,null,"ウロビリノーゲン",null,null,"潜血",null,null,"蛋白",null,null,"糖"]
["結果","測定法","試験紙","試料 3","試料 4","試験紙","試料 3","試料 4","試験紙","試料 3","試料 4","試験紙","試料 3","試料 4","試験紙","試料 3","試料 4"]
[]
["コード","1 ： 肉眼\n2 ： 機械\n3 ： 併用","1 ： ｼｰﾒﾝｽ\n2 ： ｱｰｸﾚｲ\n3 ： 栄研\n4 ： ﾛｼｭ\n5 ： 和光\n6 ： ﾃﾙﾓ\n7 ： 協和ｷﾘﾝ\n8 ： 三和化学\n9 ： 東洋ろ紙\n99 ： その他\n\n\n","1 ： 陰性\n2 ： 5mg/dL\n3 ： 20mg/dL\n4 ： 30mg/dL\n5 ： 40mg/dL\n6 ： 100ｍｇ/ｄL",null,"1 ： ｼｰﾒﾝｽ\n2 ： ｱｰｸﾚｲ\n3 ： 栄研\n4 ： ﾛｼｭ\n5 ： 和光\n6 ： ﾃﾙﾓ\n7 ： 協和ｷﾘﾝ\n8 ： 三和化学\n9 ： 東洋ろ紙\n99 ： その他\n\n\n","1 ： 0.1，1mg/dL\n2 ： 2mg/dL\n3 ： 4mg/dL\n4 ： 8mg/dL　               ",null,"1 ： ｼｰﾒﾝｽ\n2 ： ｱｰｸﾚｲ\n3 ： 栄研\n4 ： ﾛｼｭ\n5 ： 和光\n6 ： ﾃﾙﾓ\n7 ： 協和ｷﾘﾝ\n8 ： 三和化学\n9 ： 東洋ろ紙\n99 ： その他\n\n\n","1 ： 陰性\n2 ： +/-\n3 ： 1+\n4 ： 2+\n5 ： 3+",null,"1 ： ｼｰﾒﾝｽ\n2 ： ｱｰｸﾚｲ\n3 ： 栄研\n4 ： ﾛｼｭ\n5 ： 和光\n6 ： ﾃﾙﾓ\n7 ： 協和ｷﾘﾝ\n8 ： 三和化学\n9 ： 東洋ろ紙\n99 ： その他\n\n\n","1 ： 陰性\n2 ： +/-\n3 ： 30mg/dL\n4 ： 100mg/dL\n5 ： 300ｍｇ/ｄL\n6 ： 1000mg/dL",null,"1 ： ｼｰﾒﾝｽ\n2 ： ｱｰｸﾚｲ\n3 ： 栄研\n4 ： ﾛｼｭ\n5 ： 和光\n6 ： ﾃﾙﾓ\n7 ： 協和ｷﾘﾝ\n8 ： 三和化学\n9 ： 東洋ろ紙\n99 ： その他\n\n\n","1 ： 陰性\n2 ： 50mg/dL\n3 ： 100mg/dL\n4 ： 250mg/dL\n5 ： 500ｍｇ/ｄL\n6 ： 1000mg/dL"]
["備考"]
[]
["ご注意"]
[null,"測定を行っていない項目の欄は空白にしてください"]

{"sheet":"血液","index":3,"n_rows":16,"n_cols":10,"rows_kept":16,"cut":false,"hidden":false,"merged":[[15,1,15,9],[4,0,5,0],[4,1,5,1],[4,2,5,2],[4,8,5,8],[4,9,5,9],[4,3,4,4],[4,6,4,7],[11,1,11,9],[12,0,12,9],[13,1,13,9],[1,2,1,3],[14,1,14,9],[4,5,5,5],[3,0,3,3],[2,0,2,3]]}
["３．血液",null,null,"必ず「注意事項」，「コード表」をご確認下さい．"]
[]
[{"$f":"IF(施設情報!$C$3=\"\",\"\",施設情報!$C$3)","v":""}]
[{"$f":"施設情報!C4","v":""}]
[null,"項目","機器","基準範囲",null,"JCCLS共用基準範囲","測定結果",null,"報告単位","報告桁数"]
[null,null,null,"下限","上限",null,"試料 5","試料 6"]
[1,"Hb",null,null,null,null,null,null,"g/dL","少数点以下1桁"]
[2,"Hｔ",null,null,null,null,null,null,"％","少数点以下1桁"]
[3,"RBC",null,null,null,null,null,null,"×104/μL","少数点以下1桁"]
[4,"WBC",null,null,null,null,null,null,"/μL","整数"]
[5,"PLT",null,null,null,null,null,null,"×104/μL","少数点以下1桁"]
["備考"]
["ご注意　"]
[null,"測定単位，報告桁数は変更しないで下さい"]
[null,"測定を行っていない項目の欄は空白にしてください"]
[null,"男女別の基準範囲がある場合，男性の基準範囲を入力してください"]

{"sheet":"参加施設2022","index":4,"n_rows":134,"n_cols":12,"rows_kept":134,"cut":false,"hidden":true,"merged":[]}
["郡市名","コード","　=ABS()","回数R3","回数R4","参加施設名","参加部門","生化学","尿一般","血液","住所","電話番号"]
["盛岡市","01101",{"$f":"ABS(B2)","v":1101},40,41,"盛岡赤十字病院","生尿血","生化学","尿一般","血液","盛岡市三本柳6地割1番地1","019-637-3111 "]
["盛岡市","01102",{"$f":"ABS(B3)","v":1102},40,41,"遠山病院","生尿血","生化学","尿一般","血液","盛岡市下ノ橋町6番14号","019-651-2111"]
["盛岡市","01103",1103,40,41,"国立病院機構　盛岡医療センター","生尿血","生化学","尿一般","血液","盛岡市青山一丁目25番1号","019-647-2195"]
["盛岡市","01104",1104,40,41,"盛岡市立病院","生尿血","生化学","尿一般","血液","盛岡市本宮五丁目15番1号","019-635-0101"]
["盛岡市","01105",1105,40,41,"岩手医科大学附属内丸メディカルセンター","生尿血","生化学","尿一般","血液","盛岡市内丸19番1号","019-613-6111"]
["盛岡市","01106",1106,40,41,"岩手県立中央病院","生尿血","生化学","尿一般","血液","盛岡市上田一丁目4番1号","019-653-1151"]
["盛岡市","01108",1108,40,41,"盛岡つなぎ温泉病院","生尿血","生化学","尿一般","血液","盛岡市繋字尾入野64番地9","019-689-2101　"]
["盛岡市","01110",1110,39,40,"盛岡観山荘病院","生尿血","生化学","尿一般","血液","盛岡市高松四丁目20番40号","019-661-2685"]
["盛岡市","01111",1111,40,null,"三田記念病院",null,null,null,null,"盛岡市加賀野三丁目14番1号","019-624-3251"]
["盛岡市","01112",1112,40,41,"三愛病院","生尿血","生化学","尿一般","血液","盛岡市月が丘一丁目29番15号","019-641-6633"]
["盛岡市","01113",1113,35,36,"孝仁病院","生尿血","生化学","尿一般","血液","盛岡市中太田泉田28番地","019-656-2888"]
["盛岡市","01115",1115,36,37,"内丸病院","生尿血","生化学","尿一般","血液","盛岡市本町通一丁目12番7号","019-654-5331"]
["盛岡市","01135",1135,39,40,"栃内病院","生尿血","生化学","尿一般","血液","盛岡市肴町2番28号","019-623-1316"]
["盛岡市","01140",1140,31,32,"高松病院","生尿血","生化学","尿一般","血液","盛岡市館向町4番8号","019-624-2250"]
["盛岡市","01149",1149,31,32,"松園第二病院","生尿血","生化学","尿一般","血液","盛岡市西松園三丁目22番3号","019-601-6113"]
["盛岡市","01151",1151,38,39,"都南病院","生尿血","生化学","尿一般","血液","盛岡市東見前6地割40番地1","019-638-7311"]
["盛岡市","01153",1153,40,41,"盛岡南病院","　尿血",null,"尿一般","血液","盛岡市津志田13地割18番地4","019-638-2020"]
["盛岡市","01155",1155,20,21,"盛岡友愛病院","生尿血","生化学","尿一般","血液","盛岡市永井12地割10番地","019-638-2222"]
["盛岡市","01156",1156,18,19,"川久保病院","生尿血","生化学","尿一般","血液","盛岡市津志田26地割30番地1","019-635-1619"]
["盛岡市","01157",1157,40,41,"渋民中央病院","　尿血",null,"尿一般","血液","盛岡市玉山区渋民字大前田53番地2","019-683-2336"]
["盛岡市","01158",1158,28,29,"八角病院","生尿血","生化学","尿一般","血液","盛岡市玉山区好摩字夏間木70番地190","019-682-0201"]
["盛岡市","01159",1159,7,8,"未来の風せいわ病院","生","生化学",null,null,"盛岡市手代森9地割70番地1","019-696-2055"]
["盛岡市","01217",1217,40,41,"株式会社中央臨床メディエンス","生尿血","生化学","尿一般","血液","盛岡市青山4-47-30","019-641-3411"]
["盛岡市","01218",1218,40,41,"盛岡臨床検査センター","生尿血","生化学","尿一般","血液","盛岡市羽場13-30-3","019-639-9218"]
["盛岡市","01255",1255,40,41,"岩手県予防医学協会","生尿血","生化学","尿一般","血液","盛岡市北飯岡四丁目8番50号","019-638-7185"]
["盛岡市","01321",1321,29,30,"西松園内科医院","　尿血",null,"尿一般","血液","盛岡市西松園三丁目22番1号","019-662-1622"]
["盛岡市","01323",1323,29,30,"鎌田内科クリニック","　尿",null,"尿一般",null,"盛岡市本宮二丁目20番1号","019-636-1725"]
["盛岡市","01333",1333,29,30,"かなざわ内科クリニック","　尿血",null,"尿一般","血液","盛岡市上堂一丁目18番24号","019-647-3057"]
["盛岡市","01338",1338,29,30,"小豆嶋胃腸科内科クリニック","生尿血","生化学","尿一般","血液","盛岡市仙北三丁目13番20号","019-636-1503"]
["盛岡市","01343",1343,36,37,"産科婦人科　吉田医院","　　血",null,null,"血液","盛岡市若園町10番4号","019-622-9433"]
["盛岡市","01348",1348,27,28,"岩手県対がん協会附属いわて健康管理センター","生尿血","生化学","尿一般","血液","盛岡市西仙北一丁目17番18号","019-635-8849"]
["盛岡市","01358",1358,23,24,"大通胃腸科内科","　尿",null,"尿一般",null,"盛岡市大通一丁目3番4号","019-652-1825"]
["盛岡市","01359",1359,21,22,"もりおか胃腸科内科クリニック","　尿",null,"尿一般",null,"盛岡市中ノ橋通二丁目3番2号","019-606-6611"]
["盛岡市","01363",1363,13,14,"吉田消化器科内科","生尿血","生化学","尿一般","血液","盛岡市東見前8地割20番地16","019-632-4600"]
["盛岡市","01364",1364,12,13,"八角医院","生尿血","生化学","尿一般","血液","盛岡市玉山区好摩字夏間木101番地2","019-682-0007"]
["盛岡市","01365",1365,12,13,"やまだ胃腸内科クリニック","　尿",null,"尿一般",null,"盛岡市津志田中央二丁目18番31号","019-614-0180"]
["岩手西北","02102",2102,39,40,"滝沢中央病院","生尿血","生化学","尿一般","血液","滝沢市鵜飼笹森42番地2","019-684-1151"]
["岩手西北","02104",2104,39,40,"岩手県立中央病院附属沼宮内地域診療センター","生尿血","生化学","尿一般","血液","岩手郡岩手町大字五日市第10地割4番地7","0195-62-2511"]
["岩手西北","02105",2105,39,40,"東八幡平病院","生尿血","生化学","尿一般","血液","八幡平市柏台二丁目8番2号","0195-78-2511"]
["岩手西北","02106",2106,39,40,"八幡平市立病院","生尿血","生化学","尿一般","血液","八幡平市大更第25地割328番地1","0195-76-3111"]
["岩手西北","02107",2107,38,39,"栃内第二病院","生尿血","生化学","尿一般","血液","滝沢市大釜吉水103番地1","019-684-1111"]
["岩手西北","02111",2111,36,37,"鶯宿温泉病院","生尿血","生化学","尿一般","血液","岩手郡雫石町南畑第32地割字南桝沢265番地","019-695-2321"]
["岩手西北","02114",2114,30,31,"葛巻町国民健康保険　葛巻病院","生尿血","生化学","尿一般","血液","岩手郡葛巻町葛巻第16地割1番地1","0195-66-2311"]
["岩手西北","02126",2126,27,28,"いわてリハビリテーションセンター","生尿血","生化学","尿一般","血液","岩手郡雫石町七ツ森16番地243","019-692-5800"]
["岩手西北","02324",2324,40,41,"雫石町立雫石診療所","生尿血","生化学","尿一般","血液","岩手郡雫石町万田渡74番地1","019-692-3155"]
["紫波郡","01154",1154,37,38,"岩手県立療育センター","生尿血","生化学","尿一般","血液","紫波郡矢巾町医大通二丁目1番3号","019-601-3265"]
["紫波郡","03104",3104,40,41,"南昌病院","生尿血","生化学","尿一般","血液","紫波郡矢巾町大字広宮沢第1地割2番地181","019-697-5211"]
["紫波郡","03108",3108,37,38,"平和台病院","　尿",null,"尿一般",null,"紫波郡紫波町犬渕字南谷地110番地5","019-672-2266"]
["紫波郡","03109",3109,20,21,"みちのく療育園メディカルセンター","生尿血","生化学","尿一般","血液","紫波郡矢巾町大字煙山第24地割1番地","019-611-0600"]
["紫波郡","03110",3110,40,41,"岩手医科大学附属病院","生尿血","生化学","尿一般","血液","紫波郡矢巾町医大通二丁目１番１号","019-613-7111"]
["紫波郡","03301",3301,23,24,"三愛病院附属矢巾クリニック","生尿血","生化学","尿一般","血液","紫波郡矢巾町大字高田第11地割25番地2","019-697-1131"]
["紫波郡","03302",3302,40,41,"岩手県立中央病院附属紫波地域診療センター","生尿血","生化学","尿一般","血液","紫波郡紫波町桜町字三本木32番地","019-676-3311"]
["花巻市","04101",4101,40,41,"総合花巻病院","生尿血","生化学","尿一般","血液","花巻市御田屋町4番56号","0198-23-3311"]
["花巻市","04106",4106,35,36,"もとだて病院","生　血","生化学",null,"血液","花巻市東宮野目第13地割1番地1","0198-23-5131"]
["花巻市","04107",4107,39,40,"国立病院機構　花巻病院","生尿血","生化学","尿一般","血液","花巻市諏訪500番地","0198-24-0511"]
["花巻市","04108",4108,40,41,"岩手県立東和病院","生尿血","生化学","尿一般","血液","花巻市東和町安俵6区75番地1","0198-42-2211　"]
["花巻市","04114",4114,33,34,"宝陽病院","生尿血","生化学","尿一般","血液","花巻市石鳥谷町新堀第15地割23番地","0198-45-6500"]
["花巻市","04312",4312,36,37,"小原クリニック","生尿血","生化学","尿一般","血液","花巻市西大通り二丁目22番15号","0198-22-3833"]
["花巻市","04319",4319,37,38,"照井内科消化器科医院","　尿血",null,"尿一般","血液","花巻市四日町三丁目5番8号","0198-23-6100"]
["花巻市","04322",4322,21,null,"工藤医院",null,null,null,null,"花巻市一日市2-27","0198-23-2715"]
["花巻市","04323",4323,21,22,"中舘内科クリニック","　尿血",null,"尿一般","血液","花巻市不動町二丁目1番4号","0198-41-1515"]
["花巻市","04325",4325,40,41,"岩手県立中央病院附属大迫地域診療センター","生尿血","生化学","尿一般","血液","花巻市大迫町大迫第13地割20番地1","0198-48-2211"]
["北上","05102",5102,40,41,"北上済生会病院","生尿血","生化学","尿一般","血液","北上市九年橋三丁目15番33号","0197-64-7722"]
["北上","05103",5103,40,41,"町立西和賀さわうち病院","生尿血","生化学","尿一般","血液","和賀郡西和賀町沢内字大野13地割3番地12","0197-85-3131"]
["北上","05120",5120,27,28,"花北病院","生尿血","生化学","尿一般","血液","北上市村崎野16地割89番地1","0197-66-2311　"]
["北上","05121",{"$f":"ABS(B67)","v":5121},12,13,"岩手県立中部病院","生尿血","生化学","尿一般","血液","北上市村崎野17地割10番地","0197-71-1511"]
["北上","05201",5201,17,null,"(株)江東微生物研究所北上ラボラトリー",null,null,null,null,"北上市北鬼柳19-85-1　和江ビル1階","0197-71-5581"]
["北上","05312",5312,33,34,"赤坂医院","　尿血",null,"尿一般","血液","和賀郡西和賀町湯本29地割66番地4","0197-84-2121"]
["北上","05315",5315,29,30,"日高見中央クリニック","　尿血",null,"尿一般","血液","北上市北鬼柳22地割46番地","0197-61-0888"]
["北上","05316",5316,35,36,"佐々木内科小児科医院","生尿血","生化学","尿一般","血液","和賀郡西和賀町湯本30地割80番地8","0197-84-2352"]
["北上","05317",5317,6,7,"いしかわ内科クリニック","　尿",null,"尿一般",null,"北上市大堤南一丁目1番25号","0197-67-2288"]
["北上","05320",5320,8,9,"坂の上野田村太志クリニック","生尿血","生化学","尿一般","血液","北上市上野町四丁目2番15号","0197-65-1111"]
["北上","05321",5321,13,null,"かさい睡眠呼吸器クリニック",null,null,null,null,"北上市堤ヶ丘一丁目9番32号　北良メディカルセンター1階","0197-61-6590"]
["奥州","06101",6101,37,38,"美山病院","生尿血","生化学","尿一般","血液","奥州市水沢羽田町字水無沢495番地2","0197-24-2141"]
["奥州","06102",6102,34,35,"美希病院","生尿血","生化学","尿一般","血液","奥州市前沢古城字丑沢上野100番地","0197-56-6111"]
["奥州","06103",6103,40,41,"岩手県立胆沢病院","生尿血","生化学","尿一般","血液","奥州市水沢字龍ヶ馬場61番地","0197-24-4121"]
["奥州","06104",6104,40,41,"奥州市総合水沢病院","生尿血","生化学","尿一般","血液","奥州市水沢大手町三丁目1番地","0197-25-3833"]
["奥州","06105",6105,40,41,"奥州病院","生尿血","生化学","尿一般","血液","奥州市水沢東大通り一丁目5番30号","0197-25-5111 "]
["奥州","06108",6108,37,38,"奥州市国民健康保険　まごころ病院","生尿血","生化学","尿一般","血液","奥州市胆沢南都田字大持40番地","0197-46-2121　"]
["奥州","06114",6114,31,32,"石川病院","　尿血",null,"尿一般","血液","奥州市水沢南町8番10号","0197-25-6311"]
["奥州","06115",6115,35,36,"おとめがわ病院","　尿血",null,"尿一般","血液","奥州市水沢佐倉河字慶徳27番地1","0197-24-4148"]
["奥州","06325",6325,19,20,"奥州市国民健康保険　前沢診療所","生尿血","生化学","尿一般","血液","奥州市前沢字立石180番地1","0197-41-3200"]
["奥州","06326",6326,40,41,"金ケ崎町国民健康保険　金ケ崎診療所","生尿血","生化学","尿一般","血液","胆沢郡金ヶ崎町西根鑓水98番地","0197-44-2121"]
["奥州","06327",6327,0,1,"奥州市国民健康保険　衣川診療所","生尿血","生化学","尿一般","血液","奥州市衣川古戸48番地3","0197-52-3500"]
["奥州","07101",7101,40,41,"岩手県立江刺病院","生尿血","生化学","尿一般","血液","奥州市江刺西大通り5番23号","0197-35-2181"]
["一関市","08101",8101,40,41,"岩手県立磐井病院","生尿血","生化学","尿一般","血液","一関市狐禅寺字大平17番地","0191-23-3452"]
["一関市","08104",8104,39,40,"西城病院","生尿血","生化学","尿一般","血液","一関市八幡町2番43号","0191-23-3636"]
["一関市","08107",8107,40,41,"一関病院","生尿血","生化学","尿一般","血液","一関市大手町3番36号","0191-23-2050"]
["一関市","08108",8108,36,37,"昭和病院","生尿血","生化学","尿一般","血液","一関市田村町6番3号","0191-23-2020"]
["一関市","08109",8109,39,40,"国立病院機構　岩手病院","生尿血","生化学","尿一般","血液","一関市山目字泥田山下48番地","0191-25-2221"]
["一関市","08110",8110,40,41,"岩手県立千厩病院","生尿血","生化学","尿一般","血液","一関市千厩町千厩字草井沢32番地1","0191-53-2101"]
["一関市","08111",8111,40,41,"岩手県立大東病院","生尿血","生化学","尿一般","血液","一関市大東町大原字川内128番地","0191-72-2121"]
["一関市","08112",8112,36,37,"西城病院附属ひがしやま病院","生尿血","生化学","尿一般","血液","一関市東山町松川字卯入道121番地","0191-48-2666"]
["一関市","08113",8113,26,27,"一関市国民健康保険　藤沢病院","生尿血","生化学","尿一般","血液","一関市藤沢町藤沢字町裏52番地2","0191-63-5211"]
["一関市","08312",8312,38,39,"岩手クリニック一関","生尿血","生化学","尿一般","血液","一関市中里字在家65番地","0191-21-5111"]
["一関市","08315",8315,38,39,"岩手県立磐井病院附属花泉地域診療センター","生尿血","生化学","尿一般","血液","一関市花泉町涌津字上原31番地","0191-82-1231"]
["気仙","09112",9112,40,41,"岩手県立大船渡病院","生尿血","生化学","尿一般","血液","大船渡市大船渡町字山馬越10番地1","0192-26-1111"]
["気仙","09113",9113,39,40,"岩手県立高田病院","生尿血","生化学","尿一般","血液","陸前高田市高田町字太田512番地2","0192-54-3221"]
["気仙","09114",9114,39,40,"岩手県立大船渡病院附属住田地域診療センター","生","生化学",null,null,"気仙郡住田町世田米字大崎22番地1","0192-46-3121"]
["気仙","09315",9315,38,39,"鵜浦医院","生尿血","生化学","尿一般","血液","陸前高田市高田町字鳴石22番地9","0192-55-2125"]
["気仙","09316",9316,30,31,"地ノ森クリニック","生尿血","生化学","尿一般","血液","大船渡市大船渡町字山馬越188番地","0192-26-5021"]
["釜石","10111",10111,40,41,"岩手県立釜石病院","生尿血","生化学","尿一般","血液","釜石市甲子町第10地割483番地6","0193-25-2011"]
["釜石","10112",10112,38,39,"釜石のぞみ病院","生尿血","生化学","尿一般","血液","釜石市大渡町三丁目15番26号","0193-31-2300"]
["釜石","10113",10113,40,41,"せいてつ記念病院","生尿血","生化学","尿一般","血液","釜石市小佐野町四丁目3番7号","0193-23-2030"]
["釜石","10115",10115,39,40,"国立病院機構　釜石病院","生尿血","生化学","尿一般","血液","釜石市定内町四丁目7番1号","0193-23-7111　"]
["釜石","10116",10116,40,41,"岩手県立大槌病院","生尿血","生化学","尿一般","血液","上閉伊郡大槌町小鎚第23地割字寺野1番地1","0193-42-2121"]
["宮古","11111",11111,40,41,"岩手県立宮古病院","生尿血","生化学","尿一般","血液","宮古市崎鍬ヶ崎第1地割11番地26","0193-62-4011"]
["宮古","11112",11112,39,40,"宮古第一病院","　尿血",null,"尿一般","血液","宮古市保久田8番37号","0193-62-3737"]
["宮古","11321",11321,40,41,"宮古市国民健康保険　田老診療所","生尿血","生化学","尿一般","血液","宮古市田老三王一丁目1番3号","0193-65-7071"]
["宮古","11114",11114,40,41,"三陸病院","生尿血","生化学","尿一般","血液","宮古市板屋一丁目6番36号","0193-62-7021"]
["宮古","11115",11115,39,40,"岩手県立山田病院","生尿血","生化学","尿一般","血液","下閉伊郡山田町飯岡第1地割21番地1","0193-82-2111"]
["宮古","11116",11116,39,40,"済生会岩泉病院","生尿血","生化学","尿一般","血液","下閉伊郡岩泉町岩泉字中家19番地1","0194-22-2151"]
["宮古","11210",11210,40,41,"宮古臨床検査センター","生尿血","生化学","尿一般","血液","宮古市長町2-2-1","0193-62-1098"]
["宮古","11320",11320,34,35,"後藤泌尿器科皮膚科医院","生尿血","生化学","尿一般","血液","宮古市大通一丁目3番24号","0193-62-3630"]
["遠野市","12111",12111,40,41,"岩手県立遠野病院","生尿血","生化学","尿一般","血液","遠野市松崎町白岩14地割74番地","0198-62-2222"]
["遠野市","12112",12112,40,41,"遠野はやちねホスピタル","生尿血","生化学","尿一般","血液","遠野市青笹町中沢5地割5番地","0198-62-2026"]
["久慈","13111",13111,40,41,"洋野町国民健康保険　種市病院","生尿血","生化学","尿一般","血液","九戸郡洋野町種市第23地割27番地2","0194-65-2127"]
["久慈","13112",13112,40,41,"岩手県立久慈病院","生尿血","生化学","尿一般","血液","久慈市旭町第10地割1番地","0194-53-6131"]
["久慈","13113",13113,40,41,"久慈恵愛病院","生尿血","生化学","尿一般","血液","久慈市湊町第17地割100番地","0194-52-2311"]
["久慈","13114",13114,36,37,"北リアス病院","生　血","生化学",null,"血液","久慈市源道第12地割111番","0194-53-2323"]
["久慈","13311",13311,34,35,"久慈市国民健康保険　山形診療所","生尿血","生化学","尿一般","血液","久慈市山形町川井第9地割44番地8","0194-72-2033"]
["二戸","14111",14111,40,41,"岩手県立二戸病院","生尿血","生化学","尿一般","血液","二戸市堀野字大川原毛38番地2","0195-23-2191"]
["二戸","14112",14112,40,41,"岩手県立一戸病院","生尿血","生化学","尿一般","血液","二戸郡一戸町一戸字砂森60番地1","0195-33-3101"]
["二戸","14113",14113,40,41,"岩手県立軽米病院","生尿血","生化学","尿一般","血液","九戸郡軽米町大字軽米第2地割54番地5","0195-46-2411"]
["二戸","14311",14311,40,41,"岩手県立二戸病院附属九戸地域診療センター","生尿血","生化学","尿一般","血液","九戸郡九戸村大字伊保内第7地割35番地1","0195-42-2151"]
["二戸","14313",14313,13,14,"松井内科医院","生尿血","生化学","尿一般","血液","二戸郡一戸町一戸字本町58番地","0195-33-2201"]
[null,null,null,null,null,{"$f":"COUNTA(F2:F127)-COUNTBLANK(G2:G127)","v":122},null,{"$f":"COUNTA(H2:H127)","v":104},{"$f":"COUNTA(I2:I127)","v":117},{"$f":"COUNTA(J2:J127)","v":114}]
[]
["賛助メーカー"]
["神奈川県","01259",{"$f":"ABS(B131)","v":1259},null,null,"富士フイルム(株)神奈川工場(足柄サイト内)研1B棟-5階メ薬品(足)",null,null,null,null,"神奈川県南足柄市中沼210"]
["滋賀県","01260",1260,null,null,"アークレイマーケッティング(株)データーマネージンメントチーム",null,null,null,null,"京都府京都市上京区岩柄院町59"]
["茨城県","01258",1258,null,null,"オーソ・クリニカル・ダイアグノステックス(株)テクニカルソリューションセンター",null,null,null,null,"茨城県稲敷郡阿見町若栗1352　"]
["兵庫県","01262",1262,null,null,"シスメックス(株)学術推進部",null,null,null,null,"兵庫県神戸市西区室谷1-3-2　"]

{"sheet":"集計用","index":5,"n_rows":39,"n_cols":21,"rows_kept":39,"cut":false,"hidden":true,"merged":[]}
[0,{"$f":"$E$2","v":""},{"$f":"IF(施設情報!C3=\"\",\"\",施設情報!C3)","v":""},"施設番号",{"$f":"IF(施設情報!C3=\"\",\"\",施設情報!C3)","v":""}]
[0,"",{"$f":"E1","v":""},"施設名",{"$f":"IF(施設情報!C4=\"\",\"\",施設情報!C4)","v":""}]
[0,"",{"$f":"C2","v":""},"電話番号",{"$f":"IF(施設情報!C5=\"\",\"\",施設情報!C5)","v":""}]
[1,"",{"$f":"C3","v":""},"担当者名生化学",{"$f":"IF(施設情報!C6=\"\",\"\",施設情報!C6)","v":""},"職種生化学",{"$f":"IF(施設情報!G6=\"\",\"\",施設情報!G6)","v":""},{"$f":"IF(施設情報!J6=\"\",\"\",施設情報!J6)","v":""}]
[2,"",{"$f":"C4","v":""},"担当者名尿一般",{"$f":"IF(施設情報!C7=\"\",\"\",施設情報!C7)","v":""},"職種尿一般",{"$f":"IF(施設情報!G7=\"\",\"\",施設情報!G7)","v":""},{"$f":"IF(施設情報!J7=\"\",\"\",施設情報!J7)","v":""}]
[3,"",{"$f":"C5","v":""},"担当者名血液",{"$f":"IF(施設情報!C8=\"\",\"\",施設情報!C8)","v":""},"職種名血液",{"$f":"IF(施設情報!G8=\"\",\"\",施設情報!G8)","v":""},{"$f":"IF(施設情報!J8=\"\",\"\",施設情報!J8)","v":""}]
[0,"",{"$f":"C6","v":""},"測定日時",{"$f":"IF(施設情報!C9=\"\",\"\",施設情報!C9)","v":""}]
[1,null,null,null,{"$f":"化学!B5","v":"項目"},{"$f":"化学!C5","v":"測定方法"},{"$f":"化学!D5","v":"機器"},{"$f":"化学!E5","v":"試薬"},{"$f":"化学!F6","v":"下限"},{"$f":"化学!G6","v":"上限"},{"$f":"化学!I6","v":"試料 1"},{"$f":"化学!J6","v":"試料 2"},"JCCLS共用基準範囲"]
[1,{"$f":"$E$2","v":""},{"$f":"化学!A3","v":""},{"$f":"化学!A7","v":1},{"$f":"化学!B7","v":"AST"},{"$f":"IF(化学!C7=\"\",\"\",化学!C7)","v":""},{"$f":"IF(化学!D7=\"\",\"\",化学!D7)","v":""},{"$f":"IF(化学!E7=\"\",\"\",化学!E7)","v":""},{"$f":"IF(化学!F7=\"\",\"\",ROUND(化学!F7,0))","v":""},{"$f":"IF(化学!G7=\"\",\"\",ROUND(化学!G7,0))","v":""},{"$f":"IF(化学!I7=\"\",\"\",ROUND(化学!I7,0))","v":""},{"$f":"IF(化学!J7=\"\",\"\",ROUND(化学!J7,0))","v":""},{"$f":"IF(化学!H7=\"\",\"\",化学!H7)","v":""},"U/L","整数"]
[1,"",{"$f":"C9","v":""},{"$f":"化学!A8","v":2},{"$f":"化学!B8","v":"ALT"},{"$f":"IF(化学!C8=\"\",\"\",化学!C8)","v":""},{"$f":"IF(化学!D8=\"\",\"\",化学!D8)","v":""},{"$f":"IF(化学!E8=\"\",\"\",化学!E8)","v":""},{"$f":"IF(化学!F8=\"\",\"\",ROUND(化学!F8,0))","v":""},{"$f":"IF(化学!G8=\"\",\"\",ROUND(化学!G8,0))","v":""},{"$f":"IF(化学!I8=\"\",\"\",ROUND(化学!I8,0))","v":""},{"$f":"IF(化学!J8=\"\",\"\",ROUND(化学!J8,0))","v":""},{"$f":"IF(化学!H8=\"\",\"\",化学!H8)","v":""},"U/L","整数"]
[1,"","",{"$f":"化学!A9","v":3},{"$f":"化学!B9","v":"LD"},{"$f":"IF(化学!C9=\"\",\"\",化学!C9)","v":""},{"$f":"IF(化学!D9=\"\",\"\",化学!D9)","v":""},{"$f":"IF(化学!E9=\"\",\"\",化学!E9)","v":""},{"$f":"IF(化学!F9=\"\",\"\",ROUND(化学!F9,0))","v":""},{"$f":"IF(化学!G9=\"\",\"\",ROUND(化学!G9,0))","v":""},{"$f":"IF(化学!I9=\"\",\"\",ROUND(化学!I9,0))","v":""},{"$f":"IF(化学!J9=\"\",\"\",ROUND(化学!J9,0))","v":""},{"$f":"IF(化学!H9=\"\",\"\",化学!H9)","v":""},"U/L","整数"]
[1,"","",{"$f":"化学!A10","v":4},{"$f":"化学!B10","v":"ALP"},{"$f":"IF(化学!C10=\"\",\"\",化学!C10)","v":""},{"$f":"IF(化学!D10=\"\",\"\",化学!D10)","v":""},{"$f":"IF(化学!E10=\"\",\"\",化学!E10)","v":""},{"$f":"IF(化学!F10=\"\",\"\",ROUND(化学!F10,0))","v":""},{"$f":"IF(化学!G10=\"\",\"\",ROUND(化学!G10,0))","v":""},{"$f":"IF(化学!I10=\"\",\"\",ROUND(化学!I10,0))","v":""},{"$f":"IF(化学!J10=\"\",\"\",ROUND(化学!J10,0))","v":""},{"$f":"IF(化学!H10=\"\",\"\",化学!H10)","v":""},"U/L","整数"]
[1,"","",{"$f":"化学!A11","v":5},{"$f":"化学!B11","v":"AMY"},{"$f":"IF(化学!C11=\"\",\"\",化学!C11)","v":""},{"$f":"IF(化学!D11=\"\",\"\",化学!D11)","v":""},{"$f":"IF(化学!E11=\"\",\"\",化学!E11)","v":""},{"$f":"IF(化学!F11=\"\",\"\",ROUND(化学!F11,0))","v":""},{"$f":"IF(化学!G11=\"\",\"\",ROUND(化学!G11,0))","v":""},{"$f":"IF(化学!I11=\"\",\"\",ROUND(化学!I11,0))","v":""},{"$f":"IF(化学!J11=\"\",\"\",ROUND(化学!J11,0))","v":""},{"$f":"IF(化学!H11=\"\",\"\",化学!H11)","v":""},"U/L","整数"]
[1,"","",{"$f":"化学!A12","v":6},{"$f":"化学!B12","v":"γ-GT"},{"$f":"IF(化学!C12=\"\",\"\",化学!C12)","v":""},{"$f":"IF(化学!D12=\"\",\"\",化学!D12)","v":""},{"$f":"IF(化学!E12=\"\",\"\",化学!E12)","v":""},{"$f":"IF(化学!F12=\"\",\"\",ROUND(化学!F12,0))","v":""},{"$f":"IF(化学!G12=\"\",\"\",ROUND(化学!G12,0))","v":""},{"$f":"IF(化学!I12=\"\",\"\",ROUND(化学!I12,0))","v":""},{"$f":"IF(化学!J12=\"\",\"\",ROUND(化学!J12,0))","v":""},{"$f":"IF(化学!H12=\"\",\"\",化学!H12)","v":""},"U/L","整数"]
[1,"","",{"$f":"化学!A13","v":7},{"$f":"化学!B13","v":"TB"},{"$f":"IF(化学!C13=\"\",\"\",化学!C13)","v":""},{"$f":"IF(化学!D13=\"\",\"\",化学!D13)","v":""},{"$f":"IF(化学!E13=\"\",\"\",化学!E13)","v":""},{"$f":"IF(化学!F13=\"\",\"\",ROUND(化学!F13,1))","v":""},{"$f":"IF(化学!G13=\"\",\"\",ROUND(化学!G13,1))","v":""},{"$f":"IF(化学!I13=\"\",\"\",ROUND(化学!I13,1))","v":""},{"$f":"IF(化学!J13=\"\",\"\",ROUND(化学!J13,1))","v":""},{"$f":"IF(化学!H13=\"\",\"\",化学!H13)","v":""},"mg/dL","少数点以下1桁"]
[1,"","",{"$f":"化学!A14","v":8},{"$f":"化学!B14","v":"TP"},{"$f":"IF(化学!C14=\"\",\"\",化学!C14)","v":""},{"$f":"IF(化学!D14=\"\",\"\",化学!D14)","v":""},{"$f":"IF(化学!E14=\"\",\"\",化学!E14)","v":""},{"$f":"IF(化学!F14=\"\",\"\",ROUND(化学!F14,1))","v":""},{"$f":"IF(化学!G14=\"\",\"\",ROUND(化学!G14,1))","v":""},{"$f":"IF(化学!I14=\"\",\"\",ROUND(化学!I14,1))","v":""},{"$f":"IF(化学!J14=\"\",\"\",ROUND(化学!J14,1))","v":""},{"$f":"IF(化学!H14=\"\",\"\",化学!H14)","v":""},"g/dL","少数点以下1桁"]
[1,"","",{"$f":"化学!A15","v":9},{"$f":"化学!B15","v":"BUN"},{"$f":"IF(化学!C15=\"\",\"\",化学!C15)","v":""},{"$f":"IF(化学!D15=\"\",\"\",化学!D15)","v":""},{"$f":"IF(化学!E15=\"\",\"\",化学!E15)","v":""},{"$f":"IF(化学!F15=\"\",\"\",ROUND(化学!F15,1))","v":""},{"$f":"IF(化学!G15=\"\",\"\",ROUND(化学!G15,1))","v":""},{"$f":"IF(化学!I15=\"\",\"\",ROUND(化学!I15,1))","v":""},{"$f":"IF(化学!J15=\"\",\"\",ROUND(化学!J15,1))","v":""},{"$f":"IF(化学!H15=\"\",\"\",化学!H15)","v":""},"mg/dL","少数点以下1桁"]
[1,"","",{"$f":"化学!A16","v":10},{"$f":"化学!B16","v":"UA"},{"$f":"IF(化学!C16=\"\",\"\",化学!C16)","v":""},{"$f":"IF(化学!D16=\"\",\"\",化学!D16)","v":""},{"$f":"IF(化学!E16=\"\",\"\",化学!E16)","v":""},{"$f":"IF(化学!F16=\"\",\"\",ROUND(化学!F16,1))","v":""},{"$f":"IF(化学!G16=\"\",\"\",ROUND(化学!G16,1))","v":""},{"$f":"IF(化学!I16=\"\",\"\",ROUND(化学!I16,1))","v":""},{"$f":"IF(化学!J16=\"\",\"\",ROUND(化学!J16,1))","v":""},{"$f":"IF(化学!H16=\"\",\"\",化学!H16)","v":""},"mg/dL","少数点以下1桁"]
[1,"","",{"$f":"化学!A17","v":11},{"$f":"化学!B17","v":"CRE"},{"$f":"IF(化学!C17=\"\",\"\",化学!C17)","v":""},{"$f":"IF(化学!D17=\"\",\"\",化学!D17)","v":""},{"$f":"IF(化学!E17=\"\",\"\",化学!E17)","v":""},{"$f":"IF(化学!F17=\"\",\"\",ROUND(化学!F17,2))","v":""},{"$f":"IF(化学!G17=\"\",\"\",ROUND(化学!G17,2))","v":""},{"$f":"IF(化学!I17=\"\",\"\",ROUND(化学!I17,2))","v":""},{"$f":"IF(化学!J17=\"\",\"\",ROUND(化学!J17,2))","v":""},{"$f":"IF(化学!H17=\"\",\"\",化学!H17)","v":""},"mg/dL","少数点以下2桁"]
[1,"","",{"$f":"化学!A18","v":12},{"$f":"化学!B18","v":"T-CH"},{"$f":"IF(化学!C18=\"\",\"\",化学!C18)","v":""},{"$f":"IF(化学!D18=\"\",\"\",化学!D18)","v":""},{"$f":"IF(化学!E18=\"\",\"\",化学!E18)","v":""},{"$f":"IF(化学!F18=\"\",\"\",ROUND(化学!F18,0))","v":""},{"$f":"IF(化学!G18=\"\",\"\",ROUND(化学!G18,0))","v":""},{"$f":"IF(化学!I18=\"\",\"\",ROUND(化学!I18,0))","v":""},{"$f":"IF(化学!J18=\"\",\"\",ROUND(化学!J18,0))","v":""},{"$f":"IF(化学!H18=\"\",\"\",化学!H18)","v":""},"mg/dL","整数"]
[1,"","",{"$f":"化学!A19","v":13},{"$f":"化学!B19","v":"TG"},{"$f":"IF(化学!C19=\"\",\"\",化学!C19)","v":""},{"$f":"IF(化学!D19=\"\",\"\",化学!D19)","v":""},{"$f":"IF(化学!E19=\"\",\"\",化学!E19)","v":""},{"$f":"IF(化学!F19=\"\",\"\",ROUND(化学!F19,0))","v":""},{"$f":"IF(化学!G19=\"\",\"\",ROUND(化学!G19,0))","v":""},{"$f":"IF(化学!I19=\"\",\"\",ROUND(化学!I19,0))","v":""},{"$f":"IF(化学!J19=\"\",\"\",ROUND(化学!J19,0))","v":""},{"$f":"IF(化学!H19=\"\",\"\",化学!H19)","v":""},"mg/dL","整数"]
[1,"","",{"$f":"化学!A20","v":14},{"$f":"化学!B20","v":"HDL-C"},{"$f":"IF(化学!C20=\"\",\"\",化学!C20)","v":""},{"$f":"IF(化学!D20=\"\",\"\",化学!D20)","v":""},{"$f":"IF(化学!E20=\"\",\"\",化学!E20)","v":""},{"$f":"IF(化学!F20=\"\",\"\",ROUND(化学!F20,0))","v":""},{"$f":"IF(化学!G20=\"\",\"\",ROUND(化学!G20,0))","v":""},{"$f":"IF(化学!I20=\"\",\"\",ROUND(化学!I20,0))","v":""},{"$f":"IF(化学!J20=\"\",\"\",ROUND(化学!J20,0))","v":""},{"$f":"IF(化学!H20=\"\",\"\",化学!H20)","v":""},"mg/dL","整数"]
[1,"","",{"$f":"化学!A21","v":15},{"$f":"化学!B21","v":"GLU"},{"$f":"IF(化学!C21=\"\",\"\",化学!C21)","v":""},{"$f":"IF(化学!D21=\"\",\"\",化学!D21)","v":""},{"$f":"IF(化学!E21=\"\",\"\",化学!E21)","v":""},{"$f":"IF(化学!F21=\"\",\"\",ROUND(化学!F21,0))","v":""},{"$f":"IF(化学!G21=\"\",\"\",ROUND(化学!G21,0))","v":""},{"$f":"IF(化学!I21=\"\",\"\",ROUND(化学!I21,0))","v":""},{"$f":"IF(化学!J21=\"\",\"\",ROUND(化学!J21,0))","v":""},{"$f":"IF(化学!H21=\"\",\"\",化学!H21)","v":""},"mg/dL","整数"]
[1,"","",{"$f":"化学!A22","v":16},{"$f":"化学!B22","v":"CRP"},{"$f":"IF(化学!C22=\"\",\"\",化学!C22)","v":""},{"$f":"IF(化学!D22=\"\",\"\",化学!D22)","v":""},{"$f":"IF(化学!E22=\"\",\"\",化学!E22)","v":""},{"$f":"IF(化学!F22=\"\",\"\",ROUND(化学!F22,2))","v":""},{"$f":"IF(化学!G22=\"\",\"\",ROUND(化学!G22,2))","v":""},{"$f":"IF(化学!I22=\"\",\"\",ROUND(化学!I22,2))","v":""},{"$f":"IF(化学!J22=\"\",\"\",ROUND(化学!J22,2))","v":""},{"$f":"IF(化学!H22=\"\",\"\",化学!H22)","v":""},"mg/dL","少数点以下2桁"]
[1,"","",{"$f":"化学!A23","v":17},{"$f":"化学!B23","v":"Na"},{"$f":"IF(化学!C23=\"\",\"\",化学!C23)","v":""},{"$f":"IF(化学!D23=\"\",\"\",化学!D23)","v":""},{"$f":"IF(化学!E23=\"\",\"\",化学!E23)","v":""},{"$f":"IF(化学!F23=\"\",\"\",ROUND(化学!F23,0))","v":""},{"$f":"IF(化学!G23=\"\",\"\",ROUND(化学!G23,0))","v":""},{"$f":"IF(化学!I23=\"\",\"\",ROUND(化学!I23,0))","v":""},{"$f":"IF(化学!J23=\"\",\"\",ROUND(化学!J23,0))","v":""},{"$f":"IF(化学!H23=\"\",\"\",化学!H23)","v":""},"mmol/L","整数"]
[1,"","",{"$f":"化学!A24","v":18},{"$f":"化学!B24","v":"K"},{"$f":"IF(化学!C24=\"\",\"\",化学!C24)","v":""},{"$f":"IF(化学!D24=\"\",\"\",化学!D24)","v":""},{"$f":"IF(化学!E24=\"\",\"\",化学!E24)","v":""},{"$f":"IF(化学!F24=\"\",\"\",ROUND(化学!F24,1))","v":""},{"$f":"IF(化学!G24=\"\",\"\",ROUND(化学!G24,1))","v":""},{"$f":"IF(化学!I24=\"\",\"\",ROUND(化学!I24,1))","v":""},{"$f":"IF(化学!J24=\"\",\"\",ROUND(化学!J24,1))","v":""},{"$f":"IF(化学!H24=\"\",\"\",化学!H24)","v":""},"mmol/L","少数点以下1桁"]
[1,"","",{"$f":"化学!A25","v":19},{"$f":"化学!B25","v":"CL"},{"$f":"IF(化学!C25=\"\",\"\",化学!C25)","v":""},{"$f":"IF(化学!D25=\"\",\"\",化学!D25)","v":""},{"$f":"IF(化学!E25=\"\",\"\",化学!E25)","v":""},{"$f":"IF(化学!F25=\"\",\"\",ROUND(化学!F25,0))","v":""},{"$f":"IF(化学!G25=\"\",\"\",ROUND(化学!G25,0))","v":""},{"$f":"IF(化学!I25=\"\",\"\",ROUND(化学!I25,0))","v":""},{"$f":"IF(化学!J25=\"\",\"\",ROUND(化学!J25,0))","v":""},{"$f":"IF(化学!H25=\"\",\"\",化学!H25)","v":""},"mmol/L","整数"]
[1,"","",{"$f":"化学!A26","v":20},{"$f":"化学!B26","v":"Ca"},{"$f":"IF(化学!C26=\"\",\"\",化学!C26)","v":""},{"$f":"IF(化学!D26=\"\",\"\",化学!D26)","v":""},{"$f":"IF(化学!E26=\"\",\"\",化学!E26)","v":""},{"$f":"IF(化学!F26=\"\",\"\",ROUND(化学!F26,1))","v":""},{"$f":"IF(化学!G26=\"\",\"\",ROUND(化学!G26,1))","v":""},{"$f":"IF(化学!I26=\"\",\"\",ROUND(化学!I26,1))","v":""},{"$f":"IF(化学!J26=\"\",\"\",ROUND(化学!J26,1))","v":""},{"$f":"IF(化学!H26=\"\",\"\",化学!H26)","v":""},"mg/dL","少数点以下1桁"]
[1,"","",{"$f":"化学!A27","v":"備考"},{"$f":"IF(化学!B27=\"\",\"\",化学!B27)","v":""}]
[2,null,null,null,null,"ケトン体",null,null,"ウロビリノーゲン",null,null,"潜血",null,"潜血","蛋白",null,null,"糖",null,null,"備考"]
[2,null,null,null,"測定法","試験紙","試料 3","試料 4","試験紙","試料 3","試料 4","試験紙","試料 3","試料 4","試験紙","試料 3","試料 4","試験紙","試料 3","試料 4"]
[2,{"$f":"$E$2","v":""},{"$f":"尿一般!A3","v":""},"結果",{"$f":"IF(尿一般!B7=\"\",\"\",尿一般!B7)","v":""},{"$f":"IF(尿一般!C7=\"\",\"\",尿一般!C7)","v":""},{"$f":"IF(尿一般!D7=\"\",\"\",尿一般!D7)","v":""},{"$f":"IF(尿一般!E7=\"\",\"\",尿一般!E7)","v":""},{"$f":"IF(尿一般!F7=\"\",\"\",尿一般!F7)","v":""},{"$f":"IF(尿一般!G7=\"\",\"\",尿一般!G7)","v":""},{"$f":"IF(尿一般!H7=\"\",\"\",尿一般!H7)","v":""},{"$f":"IF(尿一般!I7=\"\",\"\",尿一般!I7)","v":""},{"$f":"IF(尿一般!J7=\"\",\"\",尿一般!J7)","v":""},{"$f":"IF(尿一般!K7=\"\",\"\",尿一般!K7)","v":""},{"$f":"IF(尿一般!L7=\"\",\"\",尿一般!L7)","v":""},{"$f":"IF(尿一般!M7=\"\",\"\",尿一般!M7)","v":""},{"$f":"IF(尿一般!N7=\"\",\"\",尿一般!N7)","v":""},{"$f":"IF(尿一般!O7=\"\",\"\",尿一般!O7)","v":""},{"$f":"IF(尿一般!P7=\"\",\"\",尿一般!P7)","v":""},{"$f":"IF(尿一般!Q7=\"\",\"\",尿一般!Q7)","v":""},{"$f":"IF(尿一般!B9=\"\",\"\",尿一般!B9)","v":""}]
[3,null,null,null,{"$f":"血液!B5","v":"項目"},{"$f":"血液!C5","v":"機器"},{"$f":"血液!D6","v":"下限"},{"$f":"血液!E6","v":"上限"},{"$f":"血液!G6","v":"試料 5"},{"$f":"血液!H6","v":"試料 6"},"JCCLS共用基準範囲"]
[3,{"$f":"$E$2","v":""},{"$f":"血液!A3","v":""},{"$f":"血液!A7","v":1},{"$f":"血液!B7","v":"Hb"},{"$f":"IF(血液!C7=\"\",\"\",血液!C7)","v":""},{"$f":"IF(血液!D7=\"\",\"\",血液!D7)","v":""},{"$f":"IF(血液!E7=\"\",\"\",血液!E7)","v":""},{"$f":"IF(血液!G7=\"\",\"\",ROUND(血液!G7,1))","v":""},{"$f":"IF(血液!H7=\"\",\"\",ROUND(血液!H7,1))","v":""},{"$f":"IF(血液!F7=\"\",\"\",血液!F7)","v":""},"少数点以下1桁"]
[3,"",{"$f":"C34","v":""},{"$f":"血液!A8","v":2},{"$f":"血液!B8","v":"Hｔ"},{"$f":"IF(血液!C8=\"\",\"\",血液!C8)","v":""},{"$f":"IF(血液!D8=\"\",\"\",血液!D8)","v":""},{"$f":"IF(血液!E8=\"\",\"\",血液!E8)","v":""},{"$f":"IF(血液!G8=\"\",\"\",ROUND(血液!G8,1))","v":""},{"$f":"IF(血液!H8=\"\",\"\",ROUND(血液!H8,1))","v":""},{"$f":"IF(血液!F8=\"\",\"\",血液!F8)","v":""},"少数点以下1桁"]
[3,"",{"$f":"C35","v":""},{"$f":"血液!A9","v":3},{"$f":"血液!B9","v":"RBC"},{"$f":"IF(血液!C9=\"\",\"\",血液!C9)","v":""},{"$f":"IF(血液!D9=\"\",\"\",血液!D9)","v":""},{"$f":"IF(血液!E9=\"\",\"\",血液!E9)","v":""},{"$f":"IF(血液!G9=\"\",\"\",ROUND(血液!G9,1))","v":""},{"$f":"IF(血液!H9=\"\",\"\",ROUND(血液!H9,1))","v":""},{"$f":"IF(血液!F9=\"\",\"\",血液!F9)","v":""},"少数点以下1桁"]
[3,"",{"$f":"C36","v":""},{"$f":"血液!A10","v":4},{"$f":"血液!B10","v":"WBC"},{"$f":"IF(血液!C10=\"\",\"\",血液!C10)","v":""},{"$f":"IF(血液!D10=\"\",\"\",血液!D10)","v":""},{"$f":"IF(血液!E10=\"\",\"\",血液!E10)","v":""},{"$f":"IF(血液!G10=\"\",\"\",血液!G10)","v":""},{"$f":"IF(血液!H10=\"\",\"\",血液!H10)","v":""},{"$f":"IF(血液!F10=\"\",\"\",血液!F10)","v":""},"整数"]
[3,"",{"$f":"C37","v":""},{"$f":"血液!A11","v":5},{"$f":"血液!B11","v":"PLT"},{"$f":"IF(血液!C11=\"\",\"\",血液!C11)","v":""},{"$f":"IF(血液!D11=\"\",\"\",血液!D11)","v":""},{"$f":"IF(血液!E11=\"\",\"\",血液!E11)","v":""},{"$f":"IF(血液!G11=\"\",\"\",ROUND(血液!G11,1))","v":""},{"$f":"IF(血液!H11=\"\",\"\",ROUND(血液!H11,1))","v":""},{"$f":"IF(血液!F11=\"\",\"\",血液!F11)","v":""},"少数点以下1桁"]
[3,"",{"$f":"C38","v":""},{"$f":"血液!A12","v":"備考"},{"$f":"IF(血液!B12=\"\",\"\",血液!B12)","v":""}]